BEGIN:VCALENDAR
VERSION:2.0
PRODID:-//Newcomen.com - ECPv6.15.20//NONSGML v1.0//EN
CALSCALE:GREGORIAN
METHOD:PUBLISH
X-ORIGINAL-URL:https://www.newcomen.com
X-WR-CALDESC:Events for Newcomen.com
REFRESH-INTERVAL;VALUE=DURATION:PT1H
X-Robots-Tag:noindex
X-PUBLISHED-TTL:PT1H
BEGIN:VTIMEZONE
TZID:Europe/London
BEGIN:DAYLIGHT
TZOFFSETFROM:+0000
TZOFFSETTO:+0100
TZNAME:BST
DTSTART:20250330T010000
END:DAYLIGHT
BEGIN:STANDARD
TZOFFSETFROM:+0100
TZOFFSETTO:+0000
TZNAME:GMT
DTSTART:20251026T010000
END:STANDARD
BEGIN:DAYLIGHT
TZOFFSETFROM:+0000
TZOFFSETTO:+0100
TZNAME:BST
DTSTART:20260329T010000
END:DAYLIGHT
BEGIN:STANDARD
TZOFFSETFROM:+0100
TZOFFSETTO:+0000
TZNAME:GMT
DTSTART:20261025T010000
END:STANDARD
BEGIN:DAYLIGHT
TZOFFSETFROM:+0000
TZOFFSETTO:+0100
TZNAME:BST
DTSTART:20270328T010000
END:DAYLIGHT
BEGIN:STANDARD
TZOFFSETFROM:+0100
TZOFFSETTO:+0000
TZNAME:GMT
DTSTART:20271031T010000
END:STANDARD
END:VTIMEZONE
BEGIN:VEVENT
DTSTART;TZID=Europe/London:20260114T180000
DTEND;TZID=Europe/London:20260114T193000
DTSTAMP:20260423T064213
CREATED:20250915T142342Z
LAST-MODIFIED:20250922T090546Z
UID:16532-1768413600-1768419000@www.newcomen.com
SUMMARY:'The Art of Engineering' by Laurence Scales
DESCRIPTION:This event is both an in-person and on-line event. No need to register – just come along or click this zoom link to join on-line. \nThe Royal Society of Arts began life as the Society for the Encouragement of Arts\, Manufactures and Commerce rewarding\, among other things\, inventions and improvements relating to mechanics\, manufactures and chemistry.  \nThis lecture introduces the first century of the Society\, then passes by way of some history of engineering drawing and drawing instruments to feature some of the professional draughtsmen used by the Society. Along the way\, the lecture exhibits a selection of drawings from the archive. \nAbout the Speaker\nLaurence Scales has a bachelors degree in mechanical engineering\, and subsequently worked for Lloyds Register of Shipping\, offshore engineering contractor Brown & Root\, and defence electronics manufacturer Thales. Latterly he has been an archive volunteer at both the Royal Institution of Great Britain and the Royal Society of Arts.  \nLaurence devises and leads London tours themed around the history of science\, technology and medicine. His customers have included Imperial College\, King’s College London\, Purdue University\, Ove Arup & Associates\, and the FBI.
URL:https://www.newcomen.com/activity/the-art-of-engineering-by-laurence-scales/
LOCATION:LONDON  Alan Baxter Gallery\, 75 Cowcross St\, Clerkenwell\, London\, EC1M 6EL
CATEGORIES:Shed Talks (Newcomen Online),UK - London Branch
ATTACH;FMTTYPE=image/jpeg:https://www.newcomen.com/wp-content/uploads/2025/09/26-01-14_TheArtOfEngineering_1920x1280.jpg
ORGANIZER;CN="Newcomen - London Branch":MAILTO:office@newcomen.com
END:VEVENT
END:VCALENDAR