BEGIN:VCALENDAR
VERSION:2.0
PRODID:-//Newcomen.com - ECPv6.15.20//NONSGML v1.0//EN
CALSCALE:GREGORIAN
METHOD:PUBLISH
X-ORIGINAL-URL:https://www.newcomen.com
X-WR-CALDESC:Events for Newcomen.com
REFRESH-INTERVAL;VALUE=DURATION:PT1H
X-Robots-Tag:noindex
X-PUBLISHED-TTL:PT1H
BEGIN:VTIMEZONE
TZID:Europe/London
BEGIN:DAYLIGHT
TZOFFSETFROM:+0000
TZOFFSETTO:+0100
TZNAME:BST
DTSTART:20250330T010000
END:DAYLIGHT
BEGIN:STANDARD
TZOFFSETFROM:+0100
TZOFFSETTO:+0000
TZNAME:GMT
DTSTART:20251026T010000
END:STANDARD
BEGIN:DAYLIGHT
TZOFFSETFROM:+0000
TZOFFSETTO:+0100
TZNAME:BST
DTSTART:20260329T010000
END:DAYLIGHT
BEGIN:STANDARD
TZOFFSETFROM:+0100
TZOFFSETTO:+0000
TZNAME:GMT
DTSTART:20261025T010000
END:STANDARD
BEGIN:DAYLIGHT
TZOFFSETFROM:+0000
TZOFFSETTO:+0100
TZNAME:BST
DTSTART:20270328T010000
END:DAYLIGHT
BEGIN:STANDARD
TZOFFSETFROM:+0100
TZOFFSETTO:+0000
TZNAME:GMT
DTSTART:20271031T010000
END:STANDARD
END:VTIMEZONE
BEGIN:VEVENT
DTSTART;TZID=Europe/London:20260304T190000
DTEND;TZID=Europe/London:20260304T210000
DTSTAMP:20260422T115759
CREATED:20260302T154257Z
LAST-MODIFIED:20260303T091016Z
UID:16817-1772650800-1772658000@www.newcomen.com
SUMMARY:'Housing the Great Exhibition in 1851' by Dr. Jim Andrew
DESCRIPTION:Image Credit: The Original Crystal Palace in Hyde Park – Painted for H. R. H. Prince Albert by Messrs Nash\, Haghe & Roberts R.A. \nJoining us IN PERSON – just turn up\, there’s no need to register\nJoining us ONLINE – click on this zoom link before the event to join in \nThis is a joint event with Thinktank\, Birmingham Science Museum \nThe Great Exhibition planned for the summer of 1851 was languishing in a committee until\, in June 1850\, Joseph Paxton was asked for a design of a building to go in Hyde Park\, London.  \nThe temporary building was possibly the largest single constructed building anywhere in the World\, yet it was designed within a month and opened in ten months. \nAbout the Speaker\nDr Jim Andrew is a former museum manager at Birmingham Science Museum\, and is currently Chairman of Newcomen Midlands.
URL:https://www.newcomen.com/activity/housing-the-great-exhibition-in-1851-by-dr-jim-andrew/
LOCATION:BIRMINGHAM Think Tank\, Birmingham Science Museum\,\, Curzon Street\, Birmingham\, West Midlands\, B4 7XG
CATEGORIES:Shed Talks (Newcomen Online),UK - Midlands Branch
ATTACH;FMTTYPE=image/jpeg:https://www.newcomen.com/wp-content/uploads/2026/03/26-03-04_HousingTheGreatExhibitionin1851-V3_1920x1280.jpg
ORGANIZER;CN="Newcomen - Midland Branch":MAILTO:midlands@newcomen.com
END:VEVENT
END:VCALENDAR