BEGIN:VCALENDAR
VERSION:2.0
PRODID:-//Newcomen.com - ECPv6.15.20//NONSGML v1.0//EN
CALSCALE:GREGORIAN
METHOD:PUBLISH
X-ORIGINAL-URL:https://www.newcomen.com
X-WR-CALDESC:Events for Newcomen.com
REFRESH-INTERVAL;VALUE=DURATION:PT1H
X-Robots-Tag:noindex
X-PUBLISHED-TTL:PT1H
BEGIN:VTIMEZONE
TZID:Europe/London
BEGIN:DAYLIGHT
TZOFFSETFROM:+0000
TZOFFSETTO:+0100
TZNAME:BST
DTSTART:20250330T010000
END:DAYLIGHT
BEGIN:STANDARD
TZOFFSETFROM:+0100
TZOFFSETTO:+0000
TZNAME:GMT
DTSTART:20251026T010000
END:STANDARD
BEGIN:DAYLIGHT
TZOFFSETFROM:+0000
TZOFFSETTO:+0100
TZNAME:BST
DTSTART:20260329T010000
END:DAYLIGHT
BEGIN:STANDARD
TZOFFSETFROM:+0100
TZOFFSETTO:+0000
TZNAME:GMT
DTSTART:20261025T010000
END:STANDARD
BEGIN:DAYLIGHT
TZOFFSETFROM:+0000
TZOFFSETTO:+0100
TZNAME:BST
DTSTART:20270328T010000
END:DAYLIGHT
BEGIN:STANDARD
TZOFFSETFROM:+0100
TZOFFSETTO:+0000
TZNAME:GMT
DTSTART:20271031T010000
END:STANDARD
END:VTIMEZONE
BEGIN:VEVENT
DTSTART;TZID=Europe/London:20260124T110000
DTEND;TZID=Europe/London:20260124T170000
DTSTAMP:20260426T014345
CREATED:20251209T160939Z
LAST-MODIFIED:20260119T101557Z
UID:16700-1769252400-1769274000@www.newcomen.com
SUMMARY:'The Locomotive Galleries at Armley Mills Museum' by Michael Bailey & John McGoldrick
DESCRIPTION:Photo Credit: Chris Allen \nIn Person – Seminar\, buffet lunch and tour of Locomotive Gallery – to book tickets: click here \nOn-line – Seminar only – to book tickets: click here \nDetails of how to find Armley Mills Museum and other details can be found here \nAs we are limited to 60 in-person attendees\, booking is essential and tickets cost £16 (inclusive of a £1 booking fee charged by Ticket Source)\, which includes Museum entry to the Seminar\, the Buffet Lunch\, and the tour of the Railway Galleries. \nThis is a joint meeting with the Industrial History Section of the Yorkshire Archaeological and Historical Society \nThe Locomotive Galleries at Armley Mills Museum have been closed since catastrophic flooding in December 2015.  A major flood prevention scheme\, which included a flood wall around the Museum site and the rebuilding of the gallery wall adjacent to the River Aire\, has now been completed\, and the galleries will reopen to the public in 2026. \nThis meeting is an opportunity to view the newly completed gallery and to hear about the major locomotive industry in Leeds and the important railway collection held by the Museum. \nProgramme \n11:00 am Assemble\, coffee\, and welcome \n11:30 am Michael Bailey –  The Leeds Locomotive Building Industry in the 19th Century \n12:30 pm John McGoldrick – The Leeds Railway Collection \n1:30 pm – Buffet Lunch \n2:15 pm – Group 1: Accompanied tour of the new locomotive gallery \n2:15 pm – Group 2: Opportunity to explore artefacts from the Leeds Museum Railway Collection \n3:15 pm – Groups swap over \n4:15 pm to museum close at 5:00 pm\, opportunity to explore the museum collection \nAbout the Speakers\nDr. Michael Bailey is the President of the Stephenson Locomotive Society and a Past-President of the Newcomen Society. He has undertaken considerable work on the archaeology of early steam locomotives and has written extensively about early locomotive design and manufacturing progress during the 19th century. \nJohn McGoldrick is Curator of Industrial History at Leeds Industrial Museum\, constantly seeking news ways of getting people excited about history and collections (LinkedIn).
URL:https://www.newcomen.com/activity/the-locomotive-galleries-at-armley-mills-museum-by-michael-bailey-john-mcgoldrick/
LOCATION:SHEFFIELD Leeds Industrial Museum at Armley Mills\, Canal Rd\, Armley\, Leeds\, West Yorkshire\, LS12 2QF\, United Kingdom
CATEGORIES:Shed Talks (Newcomen Online),UK - South Yorkshire Branch
ATTACH;FMTTYPE=image/jpeg:https://www.newcomen.com/wp-content/uploads/2025/12/26-01-24_TheLocomotiveGalleriesatArmleyMillsMuseum_1920x1280.jpg
ORGANIZER;CN="Newcomen - South Yorkshire Branch":MAILTO:meetings.syorks@newcomen.com
END:VEVENT
END:VCALENDAR